BEGIN:VCALENDAR
VERSION:2.0
PRODID:-//ITC Naarden - ECPv6.15.20//NONSGML v1.0//EN
CALSCALE:GREGORIAN
METHOD:PUBLISH
X-ORIGINAL-URL:https://www.itcnaarden.org
X-WR-CALDESC:Events for ITC Naarden
REFRESH-INTERVAL;VALUE=DURATION:PT1H
X-Robots-Tag:noindex
X-PUBLISHED-TTL:PT1H
BEGIN:VTIMEZONE
TZID:Europe/Amsterdam
BEGIN:DAYLIGHT
TZOFFSETFROM:+0100
TZOFFSETTO:+0200
TZNAME:CEST
DTSTART:20220327T010000
END:DAYLIGHT
BEGIN:STANDARD
TZOFFSETFROM:+0200
TZOFFSETTO:+0100
TZNAME:CET
DTSTART:20221030T010000
END:STANDARD
BEGIN:DAYLIGHT
TZOFFSETFROM:+0100
TZOFFSETTO:+0200
TZNAME:CEST
DTSTART:20230326T010000
END:DAYLIGHT
BEGIN:STANDARD
TZOFFSETFROM:+0200
TZOFFSETTO:+0100
TZNAME:CET
DTSTART:20231029T010000
END:STANDARD
BEGIN:DAYLIGHT
TZOFFSETFROM:+0100
TZOFFSETTO:+0200
TZNAME:CEST
DTSTART:20240331T010000
END:DAYLIGHT
BEGIN:STANDARD
TZOFFSETFROM:+0200
TZOFFSETTO:+0100
TZNAME:CET
DTSTART:20241027T010000
END:STANDARD
END:VTIMEZONE
BEGIN:VEVENT
DTSTART;TZID=Europe/Amsterdam:20230429T100000
DTEND;TZID=Europe/Amsterdam:20230429T160000
DTSTAMP:20260421T005410
CREATED:20230131T130648Z
LAST-MODIFIED:20240308T074244Z
UID:2096-1682762400-1682784000@www.itcnaarden.org
SUMMARY:2e TVN voorjaarsdag: 'Mens- en Wereldbeeld' met Klaas van Egmond
DESCRIPTION:De ontwikkeling van het menselijk bewustzijn in relatie met maatschappelijke ontwikkelingen \nDe spirituele ontwikkelingen in onze binnenwereld\, en de maatschappelijke ontwikkelingen in de buitenwereld worden heel sterk bepaald door het beeld van mens en wereld dat we erop nahouden. Indachtig het inzicht vanuit de Hermetische traditie -zo boven\, zo beneden-\, vallen mensbeeld en wereldbeeld samen. In de loop van de geschiedenis blijkt dat mens- en wereldbeeld in wezen hetzelfde te blijven en steeds weer opnieuw aan de oppervlakte te komen. Wat hetzelfde blijft is de menselijke aard\, de conditie waarin de mens zich bevindt als individu ten opzichte van de anderen en het andere\, en als een zowel fysiek als geestelijk wezen. Wat echter wel steeds verandert\, zowel in ons eigen leven als in de geschiedenis\, is de aandacht en de waarde die we aan die verschillende kwaliteiten geven en toekennen. Doordat we daarbij de sterke neiging hebben tot eenzijdigheid\, maken we van onszelf en van de wereld steeds weer een karikatuur. En die loopt vaak uit op een persoonlijke of maatschappelijke catastrofe. Om dat te voorkomen en meer ‘mens’ te worden moeten we leren het beweeglijke evenwicht tussen de fundamentele menselijke kwaliteiten te bewaren. \nIn de bijeenkomst van 29 april willen we dieper ingaan op de betekenis van dit mens- en wereldbeeld voor de maatschappelijke (ochtend) en voor de eigen spirituele ontwikkeling (middag).  Bij beide onderwerpen worden inleidingen gegeven door Klaas van Egmond\, waarna er veel ruimte is voor verdieping in gespreksgroepen.  \nKlaas van Egmond is hoogleraar geowetenschappen (in het bijzonder milieukunde en duurzaamheid) aan de Universiteit Utrecht. Samen met Herman Wijffels is hij initiatiefnemer van het Sustainable Finance Lab\, een denktank van economen die zich richt op het begrijpen van de financiële crisis en het formuleren van duurzame oplossingen. Deze dag betekent een verdere verdieping van de inleiding die Klaas gaf al openingslezing van de conferentie Het Nieuwe Goud op 3 september 2022.\nDe conferentie was een samenwerking met de Antroposofische Vereniging\, het Lectorium Rosicrucianum en de Theosofische Vereniging.  \nDownload hier de PDF met alle informatie: Mens- en Wereldbeeld met Klaas van Egmond \nOchtendprogramma \n9.30 Ontvangst met koffie/thee\n10.00 Inleiding Klaas van Egmond: Mens- en wereldbeeld\, de maatschappelijke ontwikkelingen \n10.45 Pauze met koffie/thee \n11.15 Groepsgesprek in kleinere groepen \n12.15 Lunch met soep (neem eigen lunchpakket mee!) \nMiddagprogramma \n13.30 Inleiding Klaas van Egmond: Mens- en wereldbeeld\,\nde spirituele ontwikkeling \n14.15 Pauze met koffie/thee\, \n14.45 Groepsgesprek in kleinere groepen\n15.45 Plenaire afsluiting. Zijn er nieuwe inzichten ontstaan? \n16.15 Sluiting (streeftijd) \nHier kunt u zich inschrijven \nKosten\nInclusief koffie\, thee\, en soep tijdens de lunch. Neem je eigen lunchpakket mee !\n● Leden van de Theosofische Vereniging € 40\n● Als je geen lid bent € 50\n● Studenten gratis op vertoon van studentenpas of MBO-card \nBetalen\n● Vooraf betalen via: NL31 INGB 0000 191910\nt.n.v. Theosofische Vereniging in Nederland\, Amsterdam\nVermelden: “2e VOORJAARSDAG 2023“\n● Ter plaatse pinnen is mogelijk (geen contante betaling).
URL:https://www.itcnaarden.org/event/2e-tvn-voorjaarsdag-mens-en-wereldbeeld/
LOCATION:Besant Hall\, Meentweg 9\, Naarden\, Noord-Holland\, 1411 GR\, Netherlands
CATEGORIES:Lectures
ATTACH;FMTTYPE=image/jpeg:https://www.itcnaarden.org/wp-content/uploads/2023/03/Mens-en-Wereldbeeld-290423.jpg
ORGANIZER;CN="Theosofische Vereniging in Nederland (TVN)":MAILTO:info@theosofie.nl
END:VEVENT
END:VCALENDAR