BEGIN:VCALENDAR
VERSION:2.0
PRODID:-//ITC Naarden - ECPv6.15.20//NONSGML v1.0//EN
CALSCALE:GREGORIAN
METHOD:PUBLISH
X-WR-CALNAME:ITC Naarden
X-ORIGINAL-URL:https://www.itcnaarden.org
X-WR-CALDESC:Events for ITC Naarden
REFRESH-INTERVAL;VALUE=DURATION:PT1H
X-Robots-Tag:noindex
X-PUBLISHED-TTL:PT1H
BEGIN:VTIMEZONE
TZID:Europe/Amsterdam
BEGIN:DAYLIGHT
TZOFFSETFROM:+0100
TZOFFSETTO:+0200
TZNAME:CEST
DTSTART:20210328T010000
END:DAYLIGHT
BEGIN:STANDARD
TZOFFSETFROM:+0200
TZOFFSETTO:+0100
TZNAME:CET
DTSTART:20211031T010000
END:STANDARD
BEGIN:DAYLIGHT
TZOFFSETFROM:+0100
TZOFFSETTO:+0200
TZNAME:CEST
DTSTART:20220327T010000
END:DAYLIGHT
BEGIN:STANDARD
TZOFFSETFROM:+0200
TZOFFSETTO:+0100
TZNAME:CET
DTSTART:20221030T010000
END:STANDARD
BEGIN:DAYLIGHT
TZOFFSETFROM:+0100
TZOFFSETTO:+0200
TZNAME:CEST
DTSTART:20230326T010000
END:DAYLIGHT
BEGIN:STANDARD
TZOFFSETFROM:+0200
TZOFFSETTO:+0100
TZNAME:CET
DTSTART:20231029T010000
END:STANDARD
END:VTIMEZONE
BEGIN:VEVENT
DTSTART;TZID=Europe/Amsterdam:20221001T100000
DTEND;TZID=Europe/Amsterdam:20221001T163000
DTSTAMP:20260419T151203
CREATED:20220830T210945Z
LAST-MODIFIED:20240308T074245Z
UID:1818-1664618400-1664641800@www.itcnaarden.org
SUMMARY:Latente Vermogens in de Mens: 'Het Bovennatuurlijke'
DESCRIPTION:In het kader van het thema “Latente Vermogens in de Mens” gaat deze dag over “Het Bovennatuurlijke”. Download hier de kleurenfolder met het volledige programma en een inschrijfformulier. Hieronder het programma in verkorte vorm. \nEr is meer tussen hemel en aarde . . . .\nDeze uitspraak opent een onbegrensd gebied dat de dagelijkse ervaringen overstijgt. Een breed terrein\, gebaseerd op ervaringen\, geloof\, emoties etc. Tijdens deze dag wordt stilgestaan bij een aantal aspecten die betrekking hebben op onze eigen relatie tot het bovennatuurlijke. Binnen het kader van deze reeks studiedagen worden diverse aspecten wetenschappelijk geduid. \n10.00 Welkom en koffie. Kom beslist op tijd! \n10.30 Opening \n10.35 Magie en bescherming: de engelenkracht en het onzichtbare \nChristiaan Vandekerkhove Bestuurslid van de Belgische Theosofische Vereniging \nIn de objectieve wereld zijn we verbonden via materiële netwerken\, in de subjectieve wereld via velden\, gedachtenvormen en “egregoren” (meta-gedachtenvormen). Deze subjectieve vormen bepalen mede ons leven – bewust of onbewust – in wel en wee. \n11.30 Koffiepauze \n12.00 Van groepsgeest naar teamspirit \nDr. P.W. (Pim) Blomaard Voorzitter van de Antroposofische Vereniging in Nederland \nVroeger werden de mensen geleid door groepszielen: geestelijke machten die aan een familie\, stam of volk leiding gaven. In onze tijd van individualisering is de invloed van dergelijke machten kleiner geworden. Voor ons is die saamhorigheid niet meer bij voorbaat gegeven\, maar zal moeten ontstaan vanuit een eigen keuze. We werken hard aan teambuilding en teamspirit. \n12.55 Lunchpauze Voor soep wordt gezorgd\, neem zelf je lunchpakketje mee. \n14.00 Psychokinese en poltergeist in de context van parapsychologisch onderzoek \nProf.em.dr. Hans Gerding Voormalig directeur van het Parapsychologisch Instituut in Utrecht\, counselor op het gebied van grenservaringen.\nIn deze voordracht staan de spookverschijnselen in een huis in Druten centraal\, waar de spreker deze verschijnselen niet alleen optekende\, maar ook wetenschappelijk onderzocht. Vanuit de parapsychologie kan er licht worden geworpen op deze fenomenen\, terwijl er desondanks nog intrigerende vragen over blijven.\n14.55 Theepauze \n15.25 Annie Besant on the Supernational \nKurt Leland International lecturer for the Theosophical Society (Adyar). Deze voordracht wordt gehouden in het Engels. \nAnnie Besant werd in 1889 lid van de Thesophical Society (Adyar).  Ze was een begenadigd spreker en schrijver. In haar werk wees zij er steeds op dat wat wij “bovennatuurlijk” noemen in feite “natuurlijk” is\, maar dan op andere/hogere gebieden van de werkelijkheid. \nZij verklaart de ogenschijnlijke bovennatuurlijke krachten in de natuur en de mens aan de hand van de theosofische visie op de hiërarchisch geordende hogere gebieden\, ijler dan het ons bekende stoffelijke gebied. \n16.30 Sluiting \n Inschrijven: \nTijdig inschrijven is noodzakelijk. Download hier het inschrijfformulier.\nEntree: € 50\,- voor leden van de Theosofische Vereniging\, € 65\,- voor niet-leden \n Covid \nHet gevaar van Covid is nog niet geweken. Een dag van te voren testen is aan te raden. \n 
URL:https://www.itcnaarden.org/event/latente-vermogens-in-de-mens-het-bovennatuurlijke/
LOCATION:Besant Hall\, Meentweg 9\, Naarden\, Noord-Holland\, 1411 GR\, Netherlands
CATEGORIES:Lectures
ATTACH;FMTTYPE=image/jpeg:https://www.itcnaarden.org/wp-content/uploads/2022/08/1-oktober-2022-het-bovennatuurlijke-.jpg
ORGANIZER;CN="ITC Naarden":MAILTO:info@itc-naarden.org
END:VEVENT
END:VCALENDAR