BEGIN:VCALENDAR
VERSION:2.0
PRODID:-//ITC Naarden - ECPv6.15.20//NONSGML v1.0//EN
CALSCALE:GREGORIAN
METHOD:PUBLISH
X-WR-CALNAME:ITC Naarden
X-ORIGINAL-URL:https://www.itcnaarden.org
X-WR-CALDESC:Events for ITC Naarden
REFRESH-INTERVAL;VALUE=DURATION:PT1H
X-Robots-Tag:noindex
X-PUBLISHED-TTL:PT1H
BEGIN:VTIMEZONE
TZID:Europe/Amsterdam
BEGIN:DAYLIGHT
TZOFFSETFROM:+0100
TZOFFSETTO:+0200
TZNAME:CEST
DTSTART:20240331T010000
END:DAYLIGHT
BEGIN:STANDARD
TZOFFSETFROM:+0200
TZOFFSETTO:+0100
TZNAME:CET
DTSTART:20241027T010000
END:STANDARD
BEGIN:DAYLIGHT
TZOFFSETFROM:+0100
TZOFFSETTO:+0200
TZNAME:CEST
DTSTART:20250330T010000
END:DAYLIGHT
BEGIN:STANDARD
TZOFFSETFROM:+0200
TZOFFSETTO:+0100
TZNAME:CET
DTSTART:20251026T010000
END:STANDARD
BEGIN:DAYLIGHT
TZOFFSETFROM:+0100
TZOFFSETTO:+0200
TZNAME:CEST
DTSTART:20260329T010000
END:DAYLIGHT
BEGIN:STANDARD
TZOFFSETFROM:+0200
TZOFFSETTO:+0100
TZNAME:CET
DTSTART:20261025T010000
END:STANDARD
END:VTIMEZONE
BEGIN:VEVENT
DTSTART;TZID=Europe/Amsterdam:20250920T100000
DTEND;TZID=Europe/Amsterdam:20250920T160000
DTSTAMP:20260421T073148
CREATED:20250810T175411Z
LAST-MODIFIED:20250810T185430Z
UID:2957-1758362400-1758384000@www.itcnaarden.org
SUMMARY:Kennismakingsdag: theosofie in de praktijk van het leven
DESCRIPTION:Deze kennismakingsdag is speciaal bedoeld voor nieuwe leden van de Theosofische Vereniging en belangstellenden. Er is in het programma veel ruimte voor onderlinge uitwisseling. \nTheosofen zijn allemaal verschillend in hun opvatting van praktische theosofie. Omdat elk wezen zijn eigen ontwikkelingsgang heeft\, kijkt iedereen immers vanuit verschillend perspectief. Hoe brengen theosofen hun ideeën over mens en wereld in praktijk? Welke verschillende opvattingen hebben ze\, en welke opvattingen hebben ze gemeenschappelijk? Welke universele principes kunnen we vinden in de esoterische leringen van de eeuwige wijsheid\, op basis waarvan we ons dagelijks leven vorm kunnen geven? \nProgramma \n10.00 Ontvangst met koffie/thee\n10.30 Inleiding Ingmar de Boer: Het theosofisch mensbeeld \nHet theosofisch mensbeeld kunnen we beschouwen als een landkaart voor onze reis op het spirituele pad. Deze reis is in detail voor iedereen verschillend\, maar de kaart is voor alle mensen dezelfde. Het mensbeeld\, vroeger vaak genoemd “de zevenvoudige samenstelling van de mens”\, komt voort uit de esoterische traditie van eeuwige wijsheid\, en in het mensbeeld is dan ook een grote wijsheid verborgen. Die wijsheid geeft aanwijzingen voor onze innerlijke transformatie\, de alchemische omkering die elk mens op het pad zal doormaken. \n11.15 Pauze met koffie/thee\n11.45 Inleiding Arend Heijbroek: Karma is meer dan je denkt \nVaak wordt het geluk of ongeluk van mensen en volkeren te makkelijk afgedaan met: “dat is mijn of hun karma”. Daarmee wordt het probleem – en onze betrokkenheid of compassie – eenvoudig in een vakje gestopt\, en dat is dan dat. Theosofie daagt ons uit om dit fundamentele onderwerp dieper\, meer spiritueel\, te onderzoeken. \n12.30 Lunch met soep (vergeet niet je eigen lunchpakket mee te nemen)\n13.30 Gespreksgroepen rond vragen over mensbeeld en karma\, zoals: \nWie zijn we eigenlijk als mens? Hoe werken de verschillende aspecten van het bewustzijn samen? Waarom is het lastig om in wijsheid te leven? Wat veroorzaakt karma? Hoe ga je om met karma in je eigen leven? Kun je je karma veranderen? \n15.00 Pauze met thee\n15.30 Gezamenlijke wandeling over het landgoed van het ITC (optioneel)\n16.00 Einde van de dag (streeftijd)\n\nLunch\nneem je eigen lunchpakket mee\, voor soep/koffie/thee wordt gezorg \nInschrijven\nvia webformulier \nKosten: vrijwillige bijdrage\nRekening NL31 INGB 0000 191910\ntnv Theosofische Vereniging in Nederland\, Amsterdam\nonder vermelding van Kennismakingsdag 2025
URL:https://www.itcnaarden.org/event/kennismakingsdag-theosofie-in-de-praktijk-van-het-leven-2/
LOCATION:Besant Hall\, Meentweg 9\, Naarden\, Noord-Holland\, 1411 GR\, Netherlands
CATEGORIES:Lectures
ATTACH;FMTTYPE=image/png:https://www.itcnaarden.org/wp-content/uploads/2024/08/Kennisaking.png
ORGANIZER;CN="Theosofische Vereniging in Nederland (TVN)":MAILTO:info@theosofie.nl
END:VEVENT
BEGIN:VEVENT
DTSTART;TZID=Europe/Amsterdam:20251108T100000
DTEND;TZID=Europe/Amsterdam:20251108T163000
DTSTAMP:20260421T073148
CREATED:20251009T200154Z
LAST-MODIFIED:20251011T152111Z
UID:3026-1762596000-1762619400@www.itcnaarden.org
SUMMARY:TVN Najaarsdag: Alchemie\, Paracelsus\, transformatie en genezing
DESCRIPTION:Programma \n10.00 Ontvangst met koffie/thee\n10.30 Herbert van Erkelens\, lezing: Het alchemistische proces van transformatie \nOver de spreker\nHerbert van Erkelens (1952) is theoretisch fysicus en pionier in bewustzijn. Hij was jarenlang als docent alchemistische symboliek verbonden aan het Jungiaans Instituut te Nijmegen. Eind 2021 verscheen de tweede editie van zijn boek Wolfgang Pauli und der Geist der Materie dat de relatie tussen kwantumfysica\, alchemie en dieptepsychologie beschrijft. Hij is ook schrijver van een alchemistisch sprookje voor volwassenen: Joël en de verloren Graalprinses (2015). \nOver de lezing\nIn de alchemie staat een natuurlijk proces van transformatie centraal. Hierover heeft Carl Gustav Jung opgemerkt: ‘Door het inzicht in de alchemistische symboliek kwam ik tot het centrale begrip van mijn psychologie\, het individuatieproces.’ Een alchemist werkte in zijn laboratorium bij voorkeur met zijn soror mystica\, zijn mystieke zuster. Dan kon het hele proces drie fasen doorlopen die met de kleuren zwart\, wit en rood verbonden waren. Theoretisch fysicus Wolfgang Pauli doorliep deze fasen waarbij de geest der materie uit zijn dromen zich zeer kritisch toonde ten opzichte van de moderne natuurkunde. \n11.30 Pauze met koffie/thee\n12.00 Gespreksgroepen over het onderwerp van deze ochtend\n13.00 Lunch met soep (neem je eigen lunchpakketje mee)\n14.00 Elke Bussler\, lezing: Ontmoeting met Paracelsus \nOver de spreker\nElke Bussler werd geboren in Berlijn. Ze volgde een studie aan de Landbouwhogeschool Wageningen.\nNa 5 jaar in Zuid-Amerika volgde zij een vertaalopleiding. Ze maakte via de homeopathie kennis met Paracelsus\, en zette in 2003 uitgeverij De Woudezel op om de werken van Paracelsus in Nederlandse vertaling uit te geven. (www.woudezel.nl/Uitgeverij.html) \nOver de lezing\nParacelsus\, eigenlijk Theophrastus von Hohenheim\, leefde in de overgangstijd van de Middeleeuwen naar de Renaissance (1494–1541). Als universeel georiënteerd en compleet mens was hij van alles\, van alchemist tot zedenleraar. Maar in de eerste plaats was hij arts\, en alles wat hij verder nog was\, stond ten dienste aan dit arts-zijn. Zo ook zijn filosofie\, zijn astronomie\, zijn alchemie en zijn theologie. Hij was toxicoloog\, farmacoloog\, psychiater\, pionier op diverse gebieden van de geneeskunde\, en de grote voorloper van de homeopathie. Zijn blik was op een verre toekomst gericht\, waarin voor de christelijke geneeskunst geen ongeneeslijke ziekten meer zouden bestaan. \nParacelsus was rozenkruiser\, helderziende en profeet. Een aantal jaren leefde hij als rondtrekkend predikant\, en hij schreef uitgebreide Bijbelcommentaren en andere theologische verhandelingen. Als sociaal bewogen hervormer – het was de tijd van de grote boerenoorlog – pleitte hij voor een soort oercommunistische samenleving. Hij liet een omvangrijk oeuvre na aan medische\, natuurfilosofische en theologische geschriften. \nZijn kijk op de mens en de kosmos\, gevormd\, belicht en gekleurd door zijn omgang met de geestelijke wereld\, kan een inspiratiebron en wegwijzer zijn voor wie ernaar streeft zich opnieuw met het geestelijke te verbinden. \n15.00 Pauze met koffie/thee\n15.30 Kringgesprek over de onderwerpen van deze dag\, take-away van de dag\nca. 16.30 Sluiting \nInschrijven via het webformulier: forms.office.com/e/esE6LB0tV \nKosten\n– leden TVN € 40\n– andere belangstellenden € 50\n– studenten gratis toegang op vertoon van een studentenkaart of MBO-pas \nRekening\nNL31 INGB 0000 191910\ntnv Theosofische Vereniging in Nederland\, Amsterdam\novv Najaarsdag 2025 \n 
URL:https://www.itcnaarden.org/event/tvn-najaarsdag-alchemie-paracelsus-transformatie-en-genezing/
LOCATION:Besant Hall\, Meentweg 9\, Naarden\, Noord-Holland\, 1411 GR\, Netherlands
CATEGORIES:Lectures,Seminars
ATTACH;FMTTYPE=image/jpeg:https://www.itcnaarden.org/wp-content/uploads/2025/10/TVN-Najaarsdag-8-November-2025-Mutus-Liber.jpg
ORGANIZER;CN="Theosofische Vereniging in Nederland (TVN)":MAILTO:info@theosofie.nl
END:VEVENT
END:VCALENDAR