BEGIN:VCALENDAR
VERSION:2.0
PRODID:-//ITC Naarden - ECPv6.15.20//NONSGML v1.0//EN
CALSCALE:GREGORIAN
METHOD:PUBLISH
X-ORIGINAL-URL:https://www.itcnaarden.org
X-WR-CALDESC:Events for ITC Naarden
REFRESH-INTERVAL;VALUE=DURATION:PT1H
X-Robots-Tag:noindex
X-PUBLISHED-TTL:PT1H
BEGIN:VTIMEZONE
TZID:Europe/Amsterdam
BEGIN:DAYLIGHT
TZOFFSETFROM:+0100
TZOFFSETTO:+0200
TZNAME:CEST
DTSTART:20210328T010000
END:DAYLIGHT
BEGIN:STANDARD
TZOFFSETFROM:+0200
TZOFFSETTO:+0100
TZNAME:CET
DTSTART:20211031T010000
END:STANDARD
BEGIN:DAYLIGHT
TZOFFSETFROM:+0100
TZOFFSETTO:+0200
TZNAME:CEST
DTSTART:20220327T010000
END:DAYLIGHT
BEGIN:STANDARD
TZOFFSETFROM:+0200
TZOFFSETTO:+0100
TZNAME:CET
DTSTART:20221030T010000
END:STANDARD
BEGIN:DAYLIGHT
TZOFFSETFROM:+0100
TZOFFSETTO:+0200
TZNAME:CEST
DTSTART:20230326T010000
END:DAYLIGHT
BEGIN:STANDARD
TZOFFSETFROM:+0200
TZOFFSETTO:+0100
TZNAME:CET
DTSTART:20231029T010000
END:STANDARD
END:VTIMEZONE
BEGIN:VEVENT
DTSTART;TZID=Europe/Amsterdam:20221023T103000
DTEND;TZID=Europe/Amsterdam:20221023T150000
DTSTAMP:20260421T071104
CREATED:20221016T093937Z
LAST-MODIFIED:20240308T074356Z
UID:1884-1666521000-1666537200@www.itcnaarden.org
SUMMARY:Friends Day
DESCRIPTION:Dear Friends of the Centre\, \nWe have been able to organise an attractive program for the day. \n10.30 Welcome in the Besant Hall with coffee \n11.00 Exhibition of paintings and sculptures related to the recently published book by Jaap Vos: “Being Is”\, a book that does not want to be a book.  \n12.00 Lunch break. Bring your own sandwiches. Weather permitting: take a walk around the ITC and experience the work of the garden group\, among other things. \n13.30 The history of ITC\, with photos from the private albums of C.W. Leadbeater we have recently acquired. Brief presentation of the issues the ITC board is currently working on. Conversation on experiences everyone has at the ITC and the future of the ITC. \n \n  \nWe are looking forward to seeing you. 
URL:https://www.itcnaarden.org/event/friends-day/
LOCATION:Besant Hall\, Meentweg 9\, Naarden\, Noord-Holland\, 1411 GR\, Netherlands
CATEGORIES:Friends Day
ATTACH;FMTTYPE=image/jpeg:https://www.itcnaarden.org/wp-content/uploads/2022/10/ITC-Naarden-oktober-2022kopie-scaled-e1665912130804.jpg
ORGANIZER;CN="ITC Naarden":MAILTO:info@itc-naarden.org
END:VEVENT
END:VCALENDAR